BEGIN:VCALENDAR
VERSION:2.0
PRODID:-//wp-events-plugin.com//6.4.6.4//EN
TZID:America/Chicago
X-WR-TIMEZONE:America/Chicago
BEGIN:VEVENT
UID:3617@chandlerfriendschurch.com
DTSTART;TZID=America/Chicago:20260301T094500
DTEND;TZID=America/Chicago:20260301T104500
DTSTAMP:20250923T201613Z
URL:https://chandlerfriendschurch.com/events/sunday-school-4-2026-03-01/
SUMMARY:Sunday School
DESCRIPTION:
CATEGORIES:Churchwide
END:VEVENT
BEGIN:VTIMEZONE
TZID:America/Chicago
X-LIC-LOCATION:America/Chicago
BEGIN:STANDARD
DTSTART:20251102T010000
TZOFFSETFROM:-0500
TZOFFSETTO:-0600
TZNAME:CST
END:STANDARD
END:VTIMEZONE
END:VCALENDAR